BEGIN:VCALENDAR
VERSION:2.0
PRODID:-//BASC Republica Dominicana - ECPv6.15.20//NONSGML v1.0//EN
CALSCALE:GREGORIAN
METHOD:PUBLISH
X-ORIGINAL-URL:https://basc.org.do
X-WR-CALDESC:Events for BASC Republica Dominicana
REFRESH-INTERVAL;VALUE=DURATION:PT1H
X-Robots-Tag:noindex
X-PUBLISHED-TTL:PT1H
BEGIN:VTIMEZONE
TZID:America/Santo_Domingo
BEGIN:STANDARD
TZOFFSETFROM:-0400
TZOFFSETTO:-0400
TZNAME:AST
DTSTART:20250101T000000
END:STANDARD
END:VTIMEZONE
BEGIN:VEVENT
DTSTART;TZID=America/Santo_Domingo:20260206T100000
DTEND;TZID=America/Santo_Domingo:20260206T110000
DTSTAMP:20260421T055109
CREATED:20260204T154554Z
LAST-MODIFIED:20260204T154955Z
UID:9549-1770372000-1770375600@basc.org.do
SUMMARY:Charla Incoterms Basado en Riesgo
DESCRIPTION:BASC Dominicana invita a su próxima charla gratuita especializada sobre “Incoterms Basado en Riesgo” a realizarse el viernes 6 de Febrero 2026. Esta charla se enfoca en el análisis técnico de los riesgos inherentes a cada Incoterm\, permitiendo a los participantes identificar\, evaluar y mitigar amenazas en toda la cadena logística internacional. Es ideal para profesionales que desean tomar decisiones estratégicas en entornos comerciales globalizados y exigentes. \nObjetivo General:  \nAl finalizar la charla\, los participantes contarán con los conocimientos básicos para comprender y aplicar correctamente los Incoterms\, permitiéndoles identificar los principales riesgos asociados a las operaciones de comercio internacional y fortalecer la toma de decisiones en sus transacciones. \nA quién va dirigido: \n\nTécnicos responsables de los procesos logísticos en las diferentes empresas e instituciones relacionadas con el comercio internacional y los procesos aduanales desde y hacia la República Dominicana.\nProfesionales de las áreas interesados en desarrollar conocimientos enfocados en la certificación y sus características.\nEstudiantes de Marketing\, Negocios Internacionales\, Administración\, Ingeniería Industrial\, Logística\, Economía y demás áreas que requiera de esta capacitación.\nProfesores e investigadores que desarrollan proyectos de alto nivel en materia de cadenas de valor\, canales de distribución\, Negocios Internacionales\, Comercio Internacional y logística del comercio internacional\n\nPerfil del Formador:  \n \n\n\n\n\nRansis García Sabater: Experto en comercio internacional\, Integración Económica\, logística\, aduanas y estrategias empresariales\, con más de dos décadas de experiencia en consultoría\, gestión organizacional y docencia universitaria. \n\nSocio fundador de la firma consultora en gestión Logística\, comercio internacional\ny aduanas García Nuñez Consultants\, S.R.L.\n Conferencista Internacional y Expositor Internacional.\n Profesor en el Instituto Tecnológico de Santo Domingo (INTEC)\, Universidad Autónoma de Santo Domingo (UASD) y otras universidades.\nFacilitador y colaborador en la Asociación Dominicana de Agentes Consolidadores\nde Carga Aérea y Marítima (ADACAM).\n\nLugar: \n\nModalidad Virtual\, Plataforma Microsoft Teams\n\nCostos:  \n\n\n\nGratuita\n\n\n\n\n\n\n\n\n\n\n\n\n\n\n\n\n\n\n\n\n\n\n\n\n\n\n\n\n\n\n\n\n\nENLACE DE REGISTRO
URL:https://basc.org.do/evento/charla-incoterms-basado-en-riesgo
LOCATION:Santo Domingo\, RD\, Santo Domingo\, Dominican Republic
CATEGORIES:Charlas BASC,Cursos y Capacitaciones
ATTACH;FMTTYPE=image/png:https://basc.org.do/wp-content/media/2026/02/Charla-INCONTERMS-2026.png
ORGANIZER;CN="BASC Dominicana":MAILTO:eventos@basc.org.do
END:VEVENT
END:VCALENDAR